BEGIN:VCALENDAR
VERSION:2.0
PRODID:-//wp-events-plugin.com//6.6.3//EN
TZID:America/Chicago
X-WR-TIMEZONE:America/Chicago
BEGIN:VEVENT
UID:235@mydartleague.com
DTSTART;TZID=America/Chicago:20180224T140000
DTEND;TZID=America/Chicago:20180224T180000
DTSTAMP:20180118T202017Z
URL:https://mydartleague.com/events/benefit-blind-draw-dart-tournament-for
 -ava-mae-triana/
SUMMARY:Benefit Blind Draw Dart Tournament for Ava Mae Triana
DESCRIPTION:\n\nThis is Ava\, a beautiful 2-year-old who was diagnosed on 9
 /12/ 17 with a rare cancer\, Neuroblastoma. She is stage 4\, the most adva
 nced and aggressive form of this rare cancer\, her parents\, are overwhelm
 ed with sadness and determined to do everything in their power to make Ava
  well again.\n\nHer battle has begun. Ava has undergone all of her 6 round
 s of chemotherapy which did shrink the tumor in her neck however she still
  has to complete radiation therapy and to be monitored for any additional 
 tumors. Ava is a very strong little girl that her and her family have been
  through a lot during this process.\n\nWe are asking for help to offset th
 e enormous medical bills that they have occurred. Her parents are focusing
  all their love\, attention\, strength and efforts on helping Ava get well
 . Anything at all that you can donate will be very appreciated. We are als
 o asking that you please pray for Ava to be cured from this terrible disea
 se. No child or parent should ever have to go through this.\n\nBlind Draw 
 Dart Tournament\n\nSaturday February 24th at 2:00 pm (sign ups) tourney st
 arts at 3:00 pm\n\nTop Fuel Saloon\n\n275 Hickory St. Braidwood\,\n\nEntry
  Fee $10.00 $5.00 of entry fee gets donated to benefit.\n\nFood &amp\; Sil
 ent Auctions (auction ends at 8 pm)\n\nAny check donations please make out
  to Chuck Triana. All proceeds from the silent auction\, bracelets &amp\; 
 donated items go toward the benefit. If you want to donate or volunteer\, 
 please contact: Andrea Mayer 815-530-5493\n\n&nbsp\;\n\n\n\n&nbsp\;\n\nDOW
 NLOAD PDF\n\nAva Mae Triana Benefit
ATTACH;FMTTYPE=image/jpeg:https://i0.wp.com/mydartleague.com/wp-content/up
 loads/2018/01/avapic.jpeg?fit=753%2C542&ssl=1
CATEGORIES:Tournament
LOCATION:Top Fuel Saloon\, 275 S Hickory St\, Braidwood\, IL\, United State
 s
GEO:41.260883;-88.24298899999997
X-APPLE-STRUCTURED-LOCATION;VALUE=URI;X-ADDRESS=275 S Hickory St\, Braidwoo
 d\, IL\, United States;X-APPLE-RADIUS=100;X-TITLE=Top Fuel Saloon:geo:41.2
 60883,-88.24298899999997
END:VEVENT
BEGIN:VTIMEZONE
TZID:America/Chicago
X-LIC-LOCATION:America/Chicago
BEGIN:STANDARD
DTSTART:20171105T010000
TZOFFSETFROM:-0500
TZOFFSETTO:-0600
TZNAME:CST
END:STANDARD
END:VTIMEZONE
END:VCALENDAR