BEGIN:VCALENDAR
VERSION:2.0
PRODID:-//wp-events-plugin.com//6.6.3//EN
TZID:America/Chicago
X-WR-TIMEZONE:America/Chicago
BEGIN:VEVENT
UID:294@mydartleague.com
DTSTART;TZID=America/Chicago;VALUE=DATE:20190128
DTEND;TZID=America/Chicago;VALUE=DATE:20190129
DTSTAMP:20181030T132057Z
URL:https://mydartleague.com/events/monday-playoffs-round-1-3/
SUMMARY:Monday Playoffs Round 1
DESCRIPTION:Monday Playoffs Round 1
CATEGORIES:Playoffs
LOCATION:NDA League\, NDA Joliet\, Joliet\, IL\, United States
GEO:41.525031;-88.08172509999997
X-APPLE-STRUCTURED-LOCATION;VALUE=URI;X-ADDRESS=NDA Joliet\, Joliet\, IL\, 
 United States;X-APPLE-RADIUS=100;X-TITLE=NDA League:geo:41.525031,-88.0817
 2509999997
END:VEVENT
BEGIN:VTIMEZONE
TZID:America/Chicago
X-LIC-LOCATION:America/Chicago
BEGIN:STANDARD
DTSTART:20181104T010000
TZOFFSETFROM:-0500
TZOFFSETTO:-0600
TZNAME:CST
END:STANDARD
END:VTIMEZONE
END:VCALENDAR