BEGIN:VCALENDAR
VERSION:2.0
PRODID:-//wp-events-plugin.com//6.6.3//EN
TZID:America/Chicago
X-WR-TIMEZONE:America/Chicago
BEGIN:VEVENT
UID:459@mydartleague.com
DTSTART;TZID=America/Chicago;VALUE=DATE:20240904
DTEND;TZID=America/Chicago;VALUE=DATE:20240905
DTSTAMP:20240825T200640Z
URL:https://mydartleague.com/events/wednesday-joliet-summer-awards-and-pay
 outs/
SUMMARY:Wednesday Joliet Summer Awards and Payouts
DESCRIPTION:Wednesday Joliet Summer Awards and Payouts: 9/4/24
ATTACH;FMTTYPE=image/jpeg:https://i0.wp.com/mydartleague.com/wp-content/up
 loads/2024/06/mdllogo-white-back.jpg?fit=230%2C51&ssl=1
CATEGORIES:Awards and Payouts
END:VEVENT
BEGIN:VTIMEZONE
TZID:America/Chicago
X-LIC-LOCATION:America/Chicago
BEGIN:DAYLIGHT
DTSTART:20240310T030000
TZOFFSETFROM:-0600
TZOFFSETTO:-0500
TZNAME:CDT
END:DAYLIGHT
END:VTIMEZONE
END:VCALENDAR