BEGIN:VCALENDAR
VERSION:2.0
PRODID:-//wp-events-plugin.com//6.6.3//EN
TZID:America/Chicago
X-WR-TIMEZONE:America/Chicago
BEGIN:VEVENT
UID:311@mydartleague.com
DTSTART;TZID=America/Chicago:20190213T193000
DTEND;TZID=America/Chicago:20190213T193000
DTSTAMP:20190128T143943Z
URL:https://mydartleague.com/events/wednesday-payouts/
SUMMARY:Wednesday Payouts
DESCRIPTION:Wednesday league payouts. Location TBD.
ATTACH;FMTTYPE=image/jpeg:https://i0.wp.com/mydartleague.com/wp-content/up
 loads/2017/11/ndaleaguelogo.png?fit=251%2C66&ssl=1
CATEGORIES:Awards and Payouts
LOCATION:NDA League\, NDA Joliet\, Joliet\, IL\, United States
GEO:41.525031;-88.08172509999997
X-APPLE-STRUCTURED-LOCATION;VALUE=URI;X-ADDRESS=NDA Joliet\, Joliet\, IL\, 
 United States;X-APPLE-RADIUS=100;X-TITLE=NDA League:geo:41.525031,-88.0817
 2509999997
END:VEVENT
BEGIN:VTIMEZONE
TZID:America/Chicago
X-LIC-LOCATION:America/Chicago
BEGIN:STANDARD
DTSTART:20181104T010000
TZOFFSETFROM:-0500
TZOFFSETTO:-0600
TZNAME:CST
END:STANDARD
END:VTIMEZONE
END:VCALENDAR